BEGIN:VCALENDAR
VERSION:2.0
PRODID:-//Stiintescu HUB 2025 - ECPv6.15.11//NONSGML v1.0//EN
CALSCALE:GREGORIAN
METHOD:PUBLISH
X-WR-CALNAME:Stiintescu HUB 2025
X-ORIGINAL-URL:https://www.stiintescuhub.ro
X-WR-CALDESC:Evenimente pentru Stiintescu HUB 2025
REFRESH-INTERVAL;VALUE=DURATION:PT1H
X-Robots-Tag:noindex
X-PUBLISHED-TTL:PT1H
BEGIN:VTIMEZONE
TZID:Europe/Moscow
BEGIN:STANDARD
TZOFFSETFROM:+0300
TZOFFSETTO:+0300
TZNAME:MSK
DTSTART:20240101T000000
END:STANDARD
END:VTIMEZONE
BEGIN:VEVENT
DTSTART;TZID=Europe/Moscow:20251108T093000
DTEND;TZID=Europe/Moscow:20251108T110000
DTSTAMP:20260421T203720
CREATED:20251102T203857Z
LAST-MODIFIED:20251102T221401Z
UID:4942-1762594200-1762599600@www.stiintescuhub.ro
SUMMARY:Atelier Procesul din spatele construirii unui robot 3D
DESCRIPTION:Pregătește-te să intri în laboratorul magic al științei! \n\n\n\nCe vor face elevii? \n\n\n\n01 Modelare digitalăVor crea ochii robotului folosind platforma Tinkercad02 Pregătire pentru printareVor înțelege cum funcționează un slicer și importanța setărilor03 Printare liveVor asista la un print 3D cu două culori în timp real04 Asamblare finalăVor construi roboțelul complet cu carcase\, motor vibrator și baterie \n\n\n\n\n\n\n\n\n\n\n\nCompetențe Tehnice \n\n\n\nDesign 3D de bazăPrincipiile modelării tridimensionale și gândirea spațialăProcesul de imprimareÎnțelegerea tehnologiei additive și a materialelorOptimizarea modelelorPregătirea și adaptarea designurilor pentru printar \n\n\n\nPretul atelierului este de 65 Ron si se va achita la finalul atelierului.
URL:https://www.stiintescuhub.ro/event/atelier-procesul-din-spatele-construirii-unui-robot-3d/
LOCATION:Laboratorul Stiintescu\, Str Turda\, nr 30\, Sibiu\, Sibiu\, Romania
END:VEVENT
END:VCALENDAR