BEGIN:VCALENDAR
VERSION:2.0
PRODID:-//Stiintescu HUB 2025 - ECPv6.15.11//NONSGML v1.0//EN
CALSCALE:GREGORIAN
METHOD:PUBLISH
X-ORIGINAL-URL:https://www.stiintescuhub.ro
X-WR-CALDESC:Evenimente pentru Stiintescu HUB 2025
REFRESH-INTERVAL;VALUE=DURATION:PT1H
X-Robots-Tag:noindex
X-PUBLISHED-TTL:PT1H
BEGIN:VTIMEZONE
TZID:Europe/Moscow
BEGIN:STANDARD
TZOFFSETFROM:+0300
TZOFFSETTO:+0300
TZNAME:MSK
DTSTART:20240101T000000
END:STANDARD
END:VTIMEZONE
BEGIN:VEVENT
DTSTART;TZID=Europe/Moscow:20251213T093000
DTEND;TZID=Europe/Moscow:20251213T110000
DTSTAMP:20260421T184201
CREATED:20251124T174928Z
LAST-MODIFIED:20251124T180638Z
UID:5242-1765618200-1765623600@www.stiintescuhub.ro
SUMMARY:Atelier tamplarie "Stelute de Craciun"
DESCRIPTION:Copilul tau o sa se distreze confectionand cu ajutorul unor kituri de tamplarie pentru copii niste stelute numai bune de agatat in brad. La final\, daca mai este timp le vor si picta de sarbatoare. Atelierul este potrivit pentru copii peste 6 ani.  \n\n\n\nKiturile de tamplarie sunt gandite special pentru copii\, vom taia placaj si vom slefui
URL:https://www.stiintescuhub.ro/event/atelier-tamplarie-stelute-de-craciun/
CATEGORIES:Laboratorul Stiintescu
ATTACH;FMTTYPE=image/webp:https://www.stiintescuhub.ro/wp-content/uploads/2025/11/PLAYmake_4in1_workshop_801200.webp
END:VEVENT
END:VCALENDAR