BEGIN:VCALENDAR
VERSION:2.0
PRODID:-//Stiintescu HUB 2025 - ECPv6.15.11//NONSGML v1.0//EN
CALSCALE:GREGORIAN
METHOD:PUBLISH
X-ORIGINAL-URL:https://www.stiintescuhub.ro
X-WR-CALDESC:Evenimente pentru Stiintescu HUB 2025
REFRESH-INTERVAL;VALUE=DURATION:PT1H
X-Robots-Tag:noindex
X-PUBLISHED-TTL:PT1H
BEGIN:VTIMEZONE
TZID:Europe/Moscow
BEGIN:STANDARD
TZOFFSETFROM:+0300
TZOFFSETTO:+0300
TZNAME:MSK
DTSTART:20240101T000000
END:STANDARD
END:VTIMEZONE
BEGIN:VEVENT
DTSTART;TZID=Europe/Moscow:20251220T090000
DTEND;TZID=Europe/Moscow:20251220T110000
DTSTAMP:20260421T184203
CREATED:20251203T130553Z
LAST-MODIFIED:20251203T130606Z
UID:5311-1766221200-1766228400@www.stiintescuhub.ro
SUMMARY:Atelier bucatari "Globuri dulci"
DESCRIPTION:Se apropie sarbatorile si cum sa ne pregatim mai bine decat cu niste biscuiti framantati\, copti si decorati de manute mici? \n\n\n\n Am pregatit un atelier de Mos Niculae – la limita dintre arta si stiinta\, dar cu zambetele garantate la final! \n\n\n\nBiscuiti cu vitralii din bomboana topite si decorati cu imaginatie de copii peste 7 ani. \n\n\n\nAtelierul va avea loc pe strada Turda nr 30 la Science Museum
URL:https://www.stiintescuhub.ro/event/atelier-bucatari-globuri-dulci-2/
LOCATION:Stiintescu HUB\, Tribunei\, nr 17\, Sibiu
CATEGORIES:Laboratorul Stiintescu
ATTACH;FMTTYPE=image/jpeg:https://www.stiintescuhub.ro/wp-content/uploads/2025/12/biscuiti-cu-vitralii.jpg
END:VEVENT
END:VCALENDAR