BEGIN:VCALENDAR
VERSION:2.0
PRODID:-//Stiintescu HUB 2025 - ECPv6.15.11//NONSGML v1.0//EN
CALSCALE:GREGORIAN
METHOD:PUBLISH
X-ORIGINAL-URL:https://www.stiintescuhub.ro
X-WR-CALDESC:Evenimente pentru Stiintescu HUB 2025
REFRESH-INTERVAL;VALUE=DURATION:PT1H
X-Robots-Tag:noindex
X-PUBLISHED-TTL:PT1H
BEGIN:VTIMEZONE
TZID:Europe/Moscow
BEGIN:STANDARD
TZOFFSETFROM:+0300
TZOFFSETTO:+0300
TZNAME:MSK
DTSTART:20250101T000000
END:STANDARD
END:VTIMEZONE
BEGIN:VEVENT
DTSTART;TZID=Europe/Moscow:20260124T093000
DTEND;TZID=Europe/Moscow:20260124T110000
DTSTAMP:20260421T185111
CREATED:20260110T083728Z
LAST-MODIFIED:20260118T070146Z
UID:5361-1769247000-1769252400@www.stiintescuhub.ro
SUMMARY:Atelier "Magia Culorilor și a Reacțiilor Chimice"
DESCRIPTION:Pregătește-te să intri în laboratorul magic al științei! În acest atelier de chimie\, copiii vor deveni mici cercetători și vor descoperi cum se nasc culorile\, cum dansează aburii gheții carbonice și cum putem obține nuanțe spectaculoase din plante și fructe. \n\n\n\nVor experimenta: \n\n\n\nColorații magice – lichide care își schimbă culoarea ca prin farmec. \n\n\n\nNorii din gheață carbonică – reacții spectaculoase care par desprinse din filme. \n\n\n\nPigmenți naturali – extragerea culorilor din legume (varza rosie). \n\n\n\n\n\n\n\n\n\n\n\nAtelierul îmbină știința cu distracția\, siguranța cu curiozitatea și îi ajută pe copii să înțeleagă lumea chimiei prin joc și uimire.La final\, fiecare mic chimist pleacă acasă cu dorința de a descoperi mai mult!
URL:https://www.stiintescuhub.ro/event/atelier-magia-culorilor-si-a-reactiilor-chimice-2/
LOCATION:Laboratorul Stiintescu\, Str Turda\, nr 30\, Sibiu\, Sibiu\, Romania
CATEGORIES:Laboratorul Stiintescu
ATTACH;FMTTYPE=image/jpeg:https://www.stiintescuhub.ro/wp-content/uploads/2025/10/chimie.jpg
END:VEVENT
END:VCALENDAR