BEGIN:VCALENDAR
VERSION:2.0
PRODID:-//Stiintescu HUB 2025 - ECPv6.15.11//NONSGML v1.0//EN
CALSCALE:GREGORIAN
METHOD:PUBLISH
X-WR-CALNAME:Stiintescu HUB 2025
X-ORIGINAL-URL:https://www.stiintescuhub.ro
X-WR-CALDESC:Evenimente pentru Stiintescu HUB 2025
REFRESH-INTERVAL;VALUE=DURATION:PT1H
X-Robots-Tag:noindex
X-PUBLISHED-TTL:PT1H
BEGIN:VTIMEZONE
TZID:Europe/Moscow
BEGIN:STANDARD
TZOFFSETFROM:+0300
TZOFFSETTO:+0300
TZNAME:MSK
DTSTART:20250101T000000
END:STANDARD
END:VTIMEZONE
BEGIN:VEVENT
DTSTART;TZID=Europe/Moscow:20260328T110000
DTEND;TZID=Europe/Moscow:20260328T123000
DTSTAMP:20260421T161223
CREATED:20260319T174431Z
LAST-MODIFIED:20260321T093132Z
UID:5522-1774695600-1774701000@www.stiintescuhub.ro
SUMMARY:Atelier "Iluzii optice"
DESCRIPTION:Motto: “Ceea ce vedem depinde în principal de ceea ce căutăm”  \n\n\n\nexperimente cu iluzii optice și învățămintele morale ce decurg din acestea – iluzii fiziologice\, iluzii cognitive\, iluzii literare\, iluzii ambigue\, distorsionate si paradoxale.
URL:https://www.stiintescuhub.ro/event/atelier-iluzii-optice/
LOCATION:Shopping City Mall Selimbar locatia Science Museum\, Soseaua Sibiului 5\, Șelimbăr\, 557260\, Romania
CATEGORIES:Laboratorul Stiintescu
ATTACH;FMTTYPE=image/jpeg:https://www.stiintescuhub.ro/wp-content/uploads/2026/03/iluzii-optice.jpg
END:VEVENT
BEGIN:VEVENT
DTSTART;TZID=Europe/Moscow:20260329T170000
DTEND;TZID=Europe/Moscow:20260329T183000
DTSTAMP:20260421T161223
CREATED:20260325T161404Z
LAST-MODIFIED:20260328T175457Z
UID:5540-1774803600-1774809000@www.stiintescuhub.ro
SUMMARY:Atelier "Curenti electrici"
DESCRIPTION:Motto: “Intre pozitiv si negativ – echilibrul in furtuna”  \n\n\n\nexperimente electrostatice si electrice\, curenti electrostatici\, forte electrostatice\, dinamuri electrice.
URL:https://www.stiintescuhub.ro/event/atelier-curenti-electrici/
LOCATION:Shopping City Mall Selimbar locatia Science Museum\, Soseaua Sibiului 5\, Șelimbăr\, 557260\, Romania
CATEGORIES:Laboratorul Stiintescu
ATTACH;FMTTYPE=image/jpeg:https://www.stiintescuhub.ro/wp-content/uploads/2026/03/curent.jpg
END:VEVENT
END:VCALENDAR