BEGIN:VCALENDAR
VERSION:2.0
PRODID:-//Stiintescu HUB 2025 - ECPv6.15.11//NONSGML v1.0//EN
CALSCALE:GREGORIAN
METHOD:PUBLISH
X-WR-CALNAME:Stiintescu HUB 2025
X-ORIGINAL-URL:https://www.stiintescuhub.ro
X-WR-CALDESC:Evenimente pentru Stiintescu HUB 2025
REFRESH-INTERVAL;VALUE=DURATION:PT1H
X-Robots-Tag:noindex
X-PUBLISHED-TTL:PT1H
BEGIN:VTIMEZONE
TZID:Europe/Moscow
BEGIN:STANDARD
TZOFFSETFROM:+0300
TZOFFSETTO:+0300
TZNAME:MSK
DTSTART:20250101T000000
END:STANDARD
END:VTIMEZONE
BEGIN:VEVENT
DTSTART;TZID=Europe/Moscow:20260418T110000
DTEND;TZID=Europe/Moscow:20260418T123000
DTSTAMP:20260421T161015
CREATED:20260417T174128Z
LAST-MODIFIED:20260417T174851Z
UID:5627-1776510000-1776515400@www.stiintescuhub.ro
SUMMARY:Electronica pentru cei mici Sambata
DESCRIPTION:Te asteptam la un atelier de introducere in electronica! Vom folosi kituri de electronica si vom descoperi ce inseamna un circuit\, un intrerupator\, cum se aprinde un bec si cum merge o sonerie…toate acestea construind circuite de la simplu la complex. \n\n\n\n\n\n\n\n\n\n\n\n\n\n\n\n\n\n\n\n\n\nAtelierul este potrivit copiilor de ciclul primar\, varsta minima 6 ani
URL:https://www.stiintescuhub.ro/event/electronica-pentru-cei-mici-sambata/
LOCATION:Shopping City Mall Selimbar locatia Science Museum\, Soseaua Sibiului 5\, Șelimbăr\, 557260\, Romania
CATEGORIES:Laboratorul Stiintescu
END:VEVENT
END:VCALENDAR